BEGIN:VCALENDAR
VERSION:2.0
PRODID:-//Hermandad de San Benito - ECPv6.15.20//NONSGML v1.0//EN
CALSCALE:GREGORIAN
METHOD:PUBLISH
X-WR-CALNAME:Hermandad de San Benito
X-ORIGINAL-URL:https://hermandaddesanbenito.net
X-WR-CALDESC:Eventos para Hermandad de San Benito
REFRESH-INTERVAL;VALUE=DURATION:PT1H
X-Robots-Tag:noindex
X-PUBLISHED-TTL:PT1H
BEGIN:VTIMEZONE
TZID:UTC
BEGIN:STANDARD
TZOFFSETFROM:+0000
TZOFFSETTO:+0000
TZNAME:UTC
DTSTART:20220101T000000
END:STANDARD
END:VTIMEZONE
BEGIN:VEVENT
DTSTART;TZID=UTC:20231216T170000
DTEND;TZID=UTC:20231216T180000
DTSTAMP:20260422T113755
CREATED:20230903T151802Z
LAST-MODIFIED:20230903T151802Z
UID:18347-1702746000-1702749600@hermandaddesanbenito.net
SUMMARY:Traslado de Nuestra Sra. de la Encarnación a la Residencia de las Hermanitas de los pobres
DESCRIPTION:
URL:https://hermandaddesanbenito.net/event/traslado-de-nuestra-sra-de-la-encarnacion-a-la-residencia-de-las-hermanitas-de-los-pobres/
END:VEVENT
END:VCALENDAR