BEGIN:VCALENDAR
VERSION:2.0
PRODID:-//Hermandad de San Benito - ECPv6.15.20//NONSGML v1.0//EN
CALSCALE:GREGORIAN
METHOD:PUBLISH
X-WR-CALNAME:Hermandad de San Benito
X-ORIGINAL-URL:https://hermandaddesanbenito.net
X-WR-CALDESC:Eventos para Hermandad de San Benito
REFRESH-INTERVAL;VALUE=DURATION:PT1H
X-Robots-Tag:noindex
X-PUBLISHED-TTL:PT1H
BEGIN:VTIMEZONE
TZID:UTC
BEGIN:STANDARD
TZOFFSETFROM:+0000
TZOFFSETTO:+0000
TZNAME:UTC
DTSTART:20230101T000000
END:STANDARD
END:VTIMEZONE
BEGIN:VEVENT
DTSTART;TZID=UTC:20241022T201500
DTEND;TZID=UTC:20241022T204500
DTSTAMP:20260421T224030
CREATED:20240905T120407Z
LAST-MODIFIED:20240905T120407Z
UID:29338-1729628100-1729629900@hermandaddesanbenito.net
SUMMARY:Culto Eucarístico
DESCRIPTION:
URL:https://hermandaddesanbenito.net/event/culto-eucaristico-25/
LOCATION:Parroquia de San Benito Abad\, Luis Montoto\, 41\, Sevilla\, 41018\, España
END:VEVENT
END:VCALENDAR