BEGIN:VCALENDAR
VERSION:2.0
PRODID:-//Hermandad de San Benito - ECPv6.15.20//NONSGML v1.0//EN
CALSCALE:GREGORIAN
METHOD:PUBLISH
X-ORIGINAL-URL:https://hermandaddesanbenito.net
X-WR-CALDESC:Eventos para Hermandad de San Benito
REFRESH-INTERVAL;VALUE=DURATION:PT1H
X-Robots-Tag:noindex
X-PUBLISHED-TTL:PT1H
BEGIN:VTIMEZONE
TZID:UTC
BEGIN:STANDARD
TZOFFSETFROM:+0000
TZOFFSETTO:+0000
TZNAME:UTC
DTSTART:20240101T000000
END:STANDARD
END:VTIMEZONE
BEGIN:VEVENT
DTSTART;TZID=UTC:20250624T211500
DTEND;TZID=UTC:20250624T221500
DTSTAMP:20260421T115606
CREATED:20241002T104147Z
LAST-MODIFIED:20250521T001817Z
UID:29594-1750799700-1750803300@hermandaddesanbenito.net
SUMMARY:Misa de Acción de gracias y clausura del curso cofrade 2024-2025
DESCRIPTION:
URL:https://hermandaddesanbenito.net/event/misa-de-accion-de-gracias-y-clausura-del-curso-cofrade-2024-2025/
LOCATION:Parroquia de San Benito Abad\, Luis Montoto\, 41\, Sevilla\, 41018\, España
END:VEVENT
END:VCALENDAR