BEGIN:VCALENDAR
VERSION:2.0
PRODID:-//Hermandad de San Benito - ECPv6.15.20//NONSGML v1.0//EN
CALSCALE:GREGORIAN
METHOD:PUBLISH
X-WR-CALNAME:Hermandad de San Benito
X-ORIGINAL-URL:https://hermandaddesanbenito.net
X-WR-CALDESC:Eventos para Hermandad de San Benito
REFRESH-INTERVAL;VALUE=DURATION:PT1H
X-Robots-Tag:noindex
X-PUBLISHED-TTL:PT1H
BEGIN:VTIMEZONE
TZID:UTC
BEGIN:STANDARD
TZOFFSETFROM:+0000
TZOFFSETTO:+0000
TZNAME:UTC
DTSTART:20230101T000000
END:STANDARD
END:VTIMEZONE
BEGIN:VTIMEZONE
TZID:Europe/Paris
BEGIN:DAYLIGHT
TZOFFSETFROM:+0100
TZOFFSETTO:+0200
TZNAME:CEST
DTSTART:20240331T010000
END:DAYLIGHT
BEGIN:STANDARD
TZOFFSETFROM:+0200
TZOFFSETTO:+0100
TZNAME:CET
DTSTART:20241027T010000
END:STANDARD
BEGIN:DAYLIGHT
TZOFFSETFROM:+0100
TZOFFSETTO:+0200
TZNAME:CEST
DTSTART:20250330T010000
END:DAYLIGHT
BEGIN:STANDARD
TZOFFSETFROM:+0200
TZOFFSETTO:+0100
TZNAME:CET
DTSTART:20251026T010000
END:STANDARD
BEGIN:DAYLIGHT
TZOFFSETFROM:+0100
TZOFFSETTO:+0200
TZNAME:CEST
DTSTART:20260329T010000
END:DAYLIGHT
BEGIN:STANDARD
TZOFFSETFROM:+0200
TZOFFSETTO:+0100
TZNAME:CET
DTSTART:20261025T010000
END:STANDARD
END:VTIMEZONE
BEGIN:VEVENT
DTSTART;TZID=UTC:20241001T201500
DTEND;TZID=UTC:20241001T204500
DTSTAMP:20260422T033837
CREATED:20240705T095332Z
LAST-MODIFIED:20240905T115350Z
UID:29122-1727813700-1727815500@hermandaddesanbenito.net
SUMMARY:Misa comienzo del curso 2024-25
DESCRIPTION:
URL:https://hermandaddesanbenito.net/event/misa-comienzo-del-curso-2024-25/
LOCATION:Parroquia de San Benito Abad\, Luis Montoto\, 41\, Sevilla\, 41018\, España
END:VEVENT
BEGIN:VEVENT
DTSTART;TZID=UTC:20241008T201500
DTEND;TZID=UTC:20241008T210000
DTSTAMP:20260422T033837
CREATED:20240905T105922Z
LAST-MODIFIED:20240905T105922Z
UID:29329-1728418500-1728421200@hermandaddesanbenito.net
SUMMARY:Misa de difunto en periodo estival
DESCRIPTION:
URL:https://hermandaddesanbenito.net/event/misa-de-difunto-en-periodo-estival-2/
LOCATION:Parroquia de San Benito Abad\, Luis Montoto\, 41\, Sevilla\, 41018\, España
END:VEVENT
BEGIN:VEVENT
DTSTART;TZID=UTC:20241014T201500
DTEND;TZID=UTC:20241016T211500
DTSTAMP:20260422T033837
CREATED:20240905T110954Z
LAST-MODIFIED:20241015T050554Z
UID:29332-1728936900-1729113300@hermandaddesanbenito.net
SUMMARY:Solemne Triduo al Santísimo Sacramento
DESCRIPTION:Predica el Rvdo. Sr. D. José Manuel Martínez Santana\, párroco de Ntra. Sra. del Mayor Dolor de Sevilla.
URL:https://hermandaddesanbenito.net/event/solemne-triduo-al-santisimo-sacramento-4/
LOCATION:Parroquia de San Benito Abad\, Luis Montoto\, 41\, Sevilla\, 41018\, España
END:VEVENT
BEGIN:VEVENT
DTSTART;TZID=UTC:20241017T201500
DTEND;TZID=UTC:20241017T211500
DTSTAMP:20260422T033837
CREATED:20240905T114807Z
LAST-MODIFIED:20240905T114807Z
UID:29336-1729196100-1729199700@hermandaddesanbenito.net
SUMMARY:Solemne Función al Santísimo Sacramento
DESCRIPTION:Función presidida por N.H. Rvdo. Sr. D. José Antonio Maya Díez\, Párroco y Director Espiritual de San Benito.
URL:https://hermandaddesanbenito.net/event/solemne-funcion-al-santisimo-sacramento-2/
LOCATION:Parroquia de San Benito Abad\, Luis Montoto\, 41\, Sevilla\, 41018\, España
END:VEVENT
BEGIN:VEVENT
DTSTART;TZID=UTC:20241022T201500
DTEND;TZID=UTC:20241022T204500
DTSTAMP:20260422T033837
CREATED:20240905T120407Z
LAST-MODIFIED:20240905T120407Z
UID:29338-1729628100-1729629900@hermandaddesanbenito.net
SUMMARY:Culto Eucarístico
DESCRIPTION:
URL:https://hermandaddesanbenito.net/event/culto-eucaristico-25/
LOCATION:Parroquia de San Benito Abad\, Luis Montoto\, 41\, Sevilla\, 41018\, España
END:VEVENT
BEGIN:VEVENT
DTSTART;TZID=UTC:20241029T201500
DTEND;TZID=UTC:20241029T204500
DTSTAMP:20260422T033837
CREATED:20240905T120530Z
LAST-MODIFIED:20240905T120530Z
UID:29340-1730232900-1730234700@hermandaddesanbenito.net
SUMMARY:Culto Eucarístico
DESCRIPTION:
URL:https://hermandaddesanbenito.net/event/culto-eucaristico-26/
LOCATION:Parroquia de San Benito Abad\, Luis Montoto\, 41\, Sevilla\, 41018\, España
END:VEVENT
BEGIN:VEVENT
DTSTART;TZID=UTC:20241105T201500
DTEND;TZID=UTC:20241105T204500
DTSTAMP:20260422T033837
CREATED:20240925T120413Z
LAST-MODIFIED:20240925T120430Z
UID:29476-1730837700-1730839500@hermandaddesanbenito.net
SUMMARY:Culto Eucarístico
DESCRIPTION:
URL:https://hermandaddesanbenito.net/event/culto-eucaristico-27/
LOCATION:Parroquia de San Benito Abad\, Luis Montoto\, 41\, Sevilla\, 41018\, España
END:VEVENT
BEGIN:VEVENT
DTSTART;TZID=UTC:20241112T201500
DTEND;TZID=UTC:20241112T204500
DTSTAMP:20260422T033837
CREATED:20240925T120510Z
LAST-MODIFIED:20240925T120510Z
UID:29478-1731442500-1731444300@hermandaddesanbenito.net
SUMMARY:Culto Eucarístico
DESCRIPTION:
URL:https://hermandaddesanbenito.net/event/culto-eucaristico-28/
LOCATION:Parroquia de San Benito Abad\, Luis Montoto\, 41\, Sevilla\, 41018\, España
END:VEVENT
BEGIN:VEVENT
DTSTART;TZID=UTC:20241119T201500
DTEND;TZID=UTC:20241119T204500
DTSTAMP:20260422T033837
CREATED:20240925T120551Z
LAST-MODIFIED:20240925T120551Z
UID:29480-1732047300-1732049100@hermandaddesanbenito.net
SUMMARY:Culto Eucarístico
DESCRIPTION:
URL:https://hermandaddesanbenito.net/event/culto-eucaristico-29/
LOCATION:Parroquia de San Benito Abad\, Luis Montoto\, 41\, Sevilla\, 41018\, España
END:VEVENT
BEGIN:VEVENT
DTSTART;TZID=UTC:20241126T201500
DTEND;TZID=UTC:20241126T204500
DTSTAMP:20260422T033837
CREATED:20240925T120154Z
LAST-MODIFIED:20240925T120154Z
UID:29474-1732652100-1732653900@hermandaddesanbenito.net
SUMMARY:Misas por los hermanos difuntos
DESCRIPTION:Misa por el alma de los hermanos fallecidos de la Hermandad
URL:https://hermandaddesanbenito.net/event/misas-por-los-hermanos-difuntos/
LOCATION:Parroquia de San Benito Abad\, Luis Montoto\, 41\, Sevilla\, 41018\, España
ORGANIZER;CN="Diputaci%C3%B3n de Cultos":MAILTO:secretaria@hermandaddesanbenito.net
END:VEVENT
BEGIN:VEVENT
DTSTART;TZID=UTC:20241203T201500
DTEND;TZID=UTC:20241203T204500
DTSTAMP:20260422T033837
CREATED:20240925T124505Z
LAST-MODIFIED:20240925T124505Z
UID:29500-1733256900-1733258700@hermandaddesanbenito.net
SUMMARY:Culto Eucarístico
DESCRIPTION:
URL:https://hermandaddesanbenito.net/event/culto-eucaristico-30/
LOCATION:Parroquia de San Benito Abad\, Luis Montoto\, 41\, Sevilla\, 41018\, España
END:VEVENT
BEGIN:VEVENT
DTSTART;TZID=UTC:20241208T130000
DTEND;TZID=UTC:20241208T133000
DTSTAMP:20260422T033837
CREATED:20240925T121507Z
LAST-MODIFIED:20240925T121535Z
UID:29484-1733662800-1733664600@hermandaddesanbenito.net
SUMMARY:Presentación de los niños
DESCRIPTION:A las 13:00 tendrá lugar presentación de los niños nacidos durante el presente año.
URL:https://hermandaddesanbenito.net/event/preswentacion-de-los-ninos/
LOCATION:Parroquia de San Benito Abad\, Luis Montoto\, 41\, Sevilla\, 41018\, España
END:VEVENT
BEGIN:VEVENT
DTSTART;TZID=UTC:20241210T201500
DTEND;TZID=UTC:20241210T211500
DTSTAMP:20260422T033837
CREATED:20240925T122337Z
LAST-MODIFIED:20240925T122337Z
UID:29490-1733861700-1733865300@hermandaddesanbenito.net
SUMMARY:Solemne Función del XXX aniversario de la Coronación Canónica de la Santísima Virgen
DESCRIPTION:Durante este día la imagen permanecerá expuesta para su veneración
URL:https://hermandaddesanbenito.net/event/solemne-funcion-del-xxx-aniversario-de-la-coronacion-canonica-de-la-santisima-virgen/
LOCATION:Parroquia de San Benito Abad\, Luis Montoto\, 41\, Sevilla\, 41018\, España
END:VEVENT
BEGIN:VEVENT
DTSTART;TZID=UTC:20241214T170000
DTEND;TZID=UTC:20241214T180000
DTSTAMP:20260422T033837
CREATED:20240925T122815Z
LAST-MODIFIED:20241201T175355Z
UID:29492-1734195600-1734199200@hermandaddesanbenito.net
SUMMARY:Traslado de Nuestra Sra. de la Encarnación a la Residencia de las Hermanitas de los pobres
DESCRIPTION:
URL:https://hermandaddesanbenito.net/event/traslado-de-nuestra-sra-de-la-encarnacion-a-la-residencia-de-las-hermanitas-de-los-pobres-2/
END:VEVENT
BEGIN:VEVENT
DTSTART;TZID=UTC:20241215T120000
DTEND;TZID=UTC:20241215T130000
DTSTAMP:20260422T033837
CREATED:20240925T123925Z
LAST-MODIFIED:20241126T065228Z
UID:29497-1734264000-1734267600@hermandaddesanbenito.net
SUMMARY:Misa III domingo adviento en la Residencia de las Hermanitas de los pobres
DESCRIPTION:A las 11:30 rezo del Santo Rosario y a las 12:00 h. del mediodía celebraremos la Santa Misa y regreso a la parroquia después de vísperas y/o rosario.
URL:https://hermandaddesanbenito.net/event/misa-iii-domingo-adviento-en-la-residencia-de-las-hermanitas-de-los-pobres/
LOCATION:Capilla de las Hermanitas\, Luis Montoto\, 43\, Sevilla\, 41018\, España
END:VEVENT
BEGIN:VEVENT
DTSTART;TZID=UTC:20241217T201500
DTEND;TZID=UTC:20241217T204500
DTSTAMP:20260422T033837
CREATED:20240925T124549Z
LAST-MODIFIED:20240925T124549Z
UID:29502-1734466500-1734468300@hermandaddesanbenito.net
SUMMARY:Culto Eucarístico
DESCRIPTION:
URL:https://hermandaddesanbenito.net/event/culto-eucaristico-31/
LOCATION:Parroquia de San Benito Abad\, Luis Montoto\, 41\, Sevilla\, 41018\, España
END:VEVENT
BEGIN:VEVENT
DTSTART;TZID=UTC:20250107T201500
DTEND;TZID=UTC:20250107T204500
DTSTAMP:20260422T033837
CREATED:20241002T104347Z
LAST-MODIFIED:20241002T104347Z
UID:29596-1736280900-1736282700@hermandaddesanbenito.net
SUMMARY:Culto Eucarístico
DESCRIPTION:
URL:https://hermandaddesanbenito.net/event/culto-eucaristico-32/
LOCATION:Parroquia de San Benito Abad\, Luis Montoto\, 41\, Sevilla\, 41018\, España
END:VEVENT
BEGIN:VEVENT
DTSTART;TZID=UTC:20250114T201500
DTEND;TZID=UTC:20250114T204500
DTSTAMP:20260422T033837
CREATED:20241002T104444Z
LAST-MODIFIED:20241002T104444Z
UID:29598-1736885700-1736887500@hermandaddesanbenito.net
SUMMARY:Culto Eucarístico
DESCRIPTION:
URL:https://hermandaddesanbenito.net/event/culto-eucaristico-33/
LOCATION:Parroquia de San Benito Abad\, Luis Montoto\, 41\, Sevilla\, 41018\, España
END:VEVENT
BEGIN:VEVENT
DTSTART;TZID=UTC:20250121T201500
DTEND;TZID=UTC:20250121T204500
DTSTAMP:20260422T033837
CREATED:20241002T104540Z
LAST-MODIFIED:20241002T104540Z
UID:29600-1737490500-1737492300@hermandaddesanbenito.net
SUMMARY:Culto Eucarístico
DESCRIPTION:
URL:https://hermandaddesanbenito.net/event/culto-eucaristico-34/
LOCATION:Parroquia de San Benito Abad\, Luis Montoto\, 41\, Sevilla\, 41018\, España
END:VEVENT
BEGIN:VEVENT
DTSTART;TZID=UTC:20250128T201500
DTEND;TZID=UTC:20250128T204500
DTSTAMP:20260422T033837
CREATED:20241002T104622Z
LAST-MODIFIED:20241002T104622Z
UID:29602-1738095300-1738097100@hermandaddesanbenito.net
SUMMARY:Culto Eucarístico
DESCRIPTION:
URL:https://hermandaddesanbenito.net/event/culto-eucaristico-35/
LOCATION:Parroquia de San Benito Abad\, Luis Montoto\, 41\, Sevilla\, 41018\, España
END:VEVENT
BEGIN:VEVENT
DTSTART;VALUE=DATE:20250201
DTEND;VALUE=DATE:20250307
DTSTAMP:20260422T033837
CREATED:20250207T191003Z
LAST-MODIFIED:20250207T192823Z
UID:30732-1738368000-1741305599@hermandaddesanbenito.net
SUMMARY:Solicitud de sitio en la cofradía online
DESCRIPTION:
URL:https://hermandaddesanbenito.net/event/solicitud-de-sitio-en-la-cofradia-online/
END:VEVENT
BEGIN:VEVENT
DTSTART;TZID=UTC:20250204T201500
DTEND;TZID=UTC:20250204T204500
DTSTAMP:20260422T033837
CREATED:20241002T104832Z
LAST-MODIFIED:20241002T104832Z
UID:29604-1738700100-1738701900@hermandaddesanbenito.net
SUMMARY:Culto Eucarístico
DESCRIPTION:
URL:https://hermandaddesanbenito.net/event/culto-eucaristico-36/
LOCATION:Parroquia de San Benito Abad\, Luis Montoto\, 41\, Sevilla\, 41018\, España
END:VEVENT
BEGIN:VEVENT
DTSTART;TZID=UTC:20250211T201500
DTEND;TZID=UTC:20250211T204500
DTSTAMP:20260422T033837
CREATED:20241002T104905Z
LAST-MODIFIED:20241002T104905Z
UID:29606-1739304900-1739306700@hermandaddesanbenito.net
SUMMARY:Culto Eucarístico
DESCRIPTION:
URL:https://hermandaddesanbenito.net/event/culto-eucaristico-37/
LOCATION:Parroquia de San Benito Abad\, Luis Montoto\, 41\, Sevilla\, 41018\, España
END:VEVENT
BEGIN:VEVENT
DTSTART;TZID=Europe/Paris:20250213T200000
DTEND;TZID=Europe/Paris:20250213T220000
DTSTAMP:20260422T033837
CREATED:20250128T181951Z
LAST-MODIFIED:20250128T182503Z
UID:30581-1739476800-1739484000@hermandaddesanbenito.net
SUMMARY:Cabildos Extraordinario y General
DESCRIPTION:
URL:https://hermandaddesanbenito.net/event/cabildos-extraordinario-y-general/
LOCATION:Salón Rvdo P. D. José Salgado de la Casa Hermandad\, Calle San Benito\, 4\, Sevilla\, Spain
END:VEVENT
BEGIN:VEVENT
DTSTART;TZID=UTC:20250218T201500
DTEND;TZID=UTC:20250218T204500
DTSTAMP:20260422T033837
CREATED:20241002T104938Z
LAST-MODIFIED:20241002T104938Z
UID:29608-1739909700-1739911500@hermandaddesanbenito.net
SUMMARY:Culto Eucarístico
DESCRIPTION:
URL:https://hermandaddesanbenito.net/event/culto-eucaristico-38/
LOCATION:Parroquia de San Benito Abad\, Luis Montoto\, 41\, Sevilla\, 41018\, España
END:VEVENT
BEGIN:VEVENT
DTSTART;TZID=UTC:20250225T201500
DTEND;TZID=UTC:20250225T204500
DTSTAMP:20260422T033837
CREATED:20241002T105006Z
LAST-MODIFIED:20241002T105006Z
UID:29610-1740514500-1740516300@hermandaddesanbenito.net
SUMMARY:Culto Eucarístico
DESCRIPTION:
URL:https://hermandaddesanbenito.net/event/culto-eucaristico-39/
LOCATION:Parroquia de San Benito Abad\, Luis Montoto\, 41\, Sevilla\, 41018\, España
END:VEVENT
BEGIN:VEVENT
DTSTART;TZID=UTC:20250304T201500
DTEND;TZID=UTC:20250308T211500
DTSTAMP:20260422T033837
CREATED:20240925T125159Z
LAST-MODIFIED:20250222T151436Z
UID:29504-1741119300-1741468500@hermandaddesanbenito.net
SUMMARY:Solemne Quinario al Señor en su Sagrada Presentación
DESCRIPTION:Predica el Rvdo. Sr. D. Fernando Emilio Borrego Ojeda\, párroco de Ntra. Sra. de Belén de Tomares (Sevilla) y delegado episcopal para las Escuelas Diocesanas de la Archidiócesis de Sevilla. \nDurante los días del Quinario imagen del Santísimo Cristo de la Sangre permanecerá expuesta en devota veneración.
URL:https://hermandaddesanbenito.net/event/solemne-quinario-al-senor-en-su-sagrada-presentacion/
LOCATION:Parroquia de San Benito Abad\, Luis Montoto\, 41\, Sevilla\, 41018\, España
END:VEVENT
BEGIN:VEVENT
DTSTART;TZID=UTC:20250309T130000
DTEND;TZID=UTC:20250309T143000
DTSTAMP:20260422T033837
CREATED:20240925T125630Z
LAST-MODIFIED:20250222T151529Z
UID:29506-1741525200-1741530600@hermandaddesanbenito.net
SUMMARY:Solemne Función Principal de Instituto
DESCRIPTION:Presidida por N.H. Rvdo. Sr. D. José Antonio Maya Díez\, párroco y Director Espiritual de San Benito \nTras la finalización de la Función la imagen del Santísimo Cristo de la Sangre permanecerá expuesta en devota veneración.
URL:https://hermandaddesanbenito.net/event/solemne-funcion-principal-de-instituto-2/
END:VEVENT
BEGIN:VEVENT
DTSTART;VALUE=DATE:20250310
DTEND;VALUE=DATE:20250311
DTSTAMP:20260422T033837
CREATED:20250207T194011Z
LAST-MODIFIED:20250207T194158Z
UID:30734-1741564800-1741651199@hermandaddesanbenito.net
SUMMARY:Reparto de papeletas online
DESCRIPTION:A partir de este día estarán asignados los sitio solicitados online. Si tienes actualizado tu email recibirás un correo electrónico con la adjudicación.
URL:https://hermandaddesanbenito.net/event/reparto-de-papeletas-online/
END:VEVENT
BEGIN:VEVENT
DTSTART;TZID=UTC:20250311T201500
DTEND;TZID=UTC:20250311T204500
DTSTAMP:20260422T033837
CREATED:20241002T105207Z
LAST-MODIFIED:20241002T105207Z
UID:29614-1741724100-1741725900@hermandaddesanbenito.net
SUMMARY:Culto Eucarístico
DESCRIPTION:
URL:https://hermandaddesanbenito.net/event/culto-eucaristico-41/
LOCATION:Parroquia de San Benito Abad\, Luis Montoto\, 41\, Sevilla\, 41018\, España
END:VEVENT
END:VCALENDAR