BEGIN:VCALENDAR
VERSION:2.0
PRODID:-//Hermandad de San Benito - ECPv6.15.20//NONSGML v1.0//EN
CALSCALE:GREGORIAN
METHOD:PUBLISH
X-ORIGINAL-URL:https://hermandaddesanbenito.net
X-WR-CALDESC:Eventos para Hermandad de San Benito
REFRESH-INTERVAL;VALUE=DURATION:PT1H
X-Robots-Tag:noindex
X-PUBLISHED-TTL:PT1H
BEGIN:VTIMEZONE
TZID:UTC
BEGIN:STANDARD
TZOFFSETFROM:+0000
TZOFFSETTO:+0000
TZNAME:UTC
DTSTART:20230101T000000
END:STANDARD
END:VTIMEZONE
BEGIN:VEVENT
DTSTART;TZID=UTC:20240102T201500
DTEND;TZID=UTC:20240102T204500
DTSTAMP:20260422T101425
CREATED:20231203T130548Z
LAST-MODIFIED:20231203T130548Z
UID:24280-1704226500-1704228300@hermandaddesanbenito.net
SUMMARY:Culto Eucarístico
DESCRIPTION:
URL:https://hermandaddesanbenito.net/event/culto-eucaristico-8/
END:VEVENT
BEGIN:VEVENT
DTSTART;TZID=UTC:20240109T201500
DTEND;TZID=UTC:20240109T204500
DTSTAMP:20260422T101425
CREATED:20231203T130659Z
LAST-MODIFIED:20231203T130707Z
UID:24282-1704831300-1704833100@hermandaddesanbenito.net
SUMMARY:Culto Eucarístico
DESCRIPTION:
URL:https://hermandaddesanbenito.net/event/culto-eucaristico-9/
END:VEVENT
BEGIN:VEVENT
DTSTART;TZID=UTC:20240116T201500
DTEND;TZID=UTC:20240116T204500
DTSTAMP:20260422T101425
CREATED:20231203T130756Z
LAST-MODIFIED:20231203T130756Z
UID:24284-1705436100-1705437900@hermandaddesanbenito.net
SUMMARY:Culto Eucarístico
DESCRIPTION:
URL:https://hermandaddesanbenito.net/event/culto-eucaristico-10/
END:VEVENT
BEGIN:VEVENT
DTSTART;TZID=UTC:20240122T203000
DTEND;TZID=UTC:20240122T203000
DTSTAMP:20260422T101425
CREATED:20231223T091941Z
LAST-MODIFIED:20231223T092413Z
UID:25000-1705955400-1705955400@hermandaddesanbenito.net
SUMMARY:XXXIII Exaltación a Ntra. Sra. de la Encarnación
DESCRIPTION:Exaltador NH Francisco Pérez Gamero \nInterpretaciones musicales a cargo de la Banda Municipal de la Puebla del Río
URL:https://hermandaddesanbenito.net/event/xxxiii-exaltacion-a-ntra-sra-de-la-encarnacion/
END:VEVENT
BEGIN:VEVENT
DTSTART;TZID=UTC:20240123T201500
DTEND;TZID=UTC:20240123T211500
DTSTAMP:20260422T101425
CREATED:20230907T141123Z
LAST-MODIFIED:20230907T141123Z
UID:18566-1706040900-1706044500@hermandaddesanbenito.net
SUMMARY:Solemne Triduo a Nuestra Sra. de la Encarnación
DESCRIPTION:Predica N.H. el M.I. Sr. D. Marcelino Manzano Vilches\, canónigo de la S.M. y P.I. Catedral de Sevilla y Delegado diocesano de Hermandades y Cofradías.
URL:https://hermandaddesanbenito.net/event/solemne-triduo-a-nuestra-sra-de-la-encarnacion/
END:VEVENT
BEGIN:VEVENT
DTSTART;TZID=UTC:20240124T201500
DTEND;TZID=UTC:20240124T211500
DTSTAMP:20260422T101425
CREATED:20230907T141227Z
LAST-MODIFIED:20230907T141227Z
UID:18568-1706127300-1706130900@hermandaddesanbenito.net
SUMMARY:Solemne Triduo a Nuestra Sra. de la Encarnación
DESCRIPTION:Predica N.H. el M.I. Sr. D. Marcelino Manzano Vilches\, canónigo de la S.M. y P.I. Catedral de Sevilla y Delegado diocesano de Hermandades y Cofradías.
URL:https://hermandaddesanbenito.net/event/solemne-triduo-a-nuestra-sra-de-la-encarnacion-2/
END:VEVENT
BEGIN:VEVENT
DTSTART;TZID=UTC:20240125T201500
DTEND;TZID=UTC:20240125T211500
DTSTAMP:20260422T101425
CREATED:20230907T141253Z
LAST-MODIFIED:20230907T141253Z
UID:18570-1706213700-1706217300@hermandaddesanbenito.net
SUMMARY:Solemne Triduo a Nuestra Sra. de la Encarnación
DESCRIPTION:Predica N.H. el M.I. Sr. D. Marcelino Manzano Vilches\, canónigo de la S.M. y P.I. Catedral de Sevilla y Delegado diocesano de Hermandades y Cofradías.
URL:https://hermandaddesanbenito.net/event/solemne-triduo-a-nuestra-sra-de-la-encarnacion-3/
END:VEVENT
BEGIN:VEVENT
DTSTART;TZID=UTC:20240126T201500
DTEND;TZID=UTC:20240126T211500
DTSTAMP:20260422T101425
CREATED:20230907T141352Z
LAST-MODIFIED:20230907T141352Z
UID:18572-1706300100-1706303700@hermandaddesanbenito.net
SUMMARY:Solemne Función a Nuestra Sra. de la Encarnación
DESCRIPTION:
URL:https://hermandaddesanbenito.net/event/solemne-funcion-a-nuestra-sra-de-la-encarnacion/
END:VEVENT
BEGIN:VEVENT
DTSTART;TZID=UTC:20240130T201500
DTEND;TZID=UTC:20240130T204500
DTSTAMP:20260422T101425
CREATED:20231203T130835Z
LAST-MODIFIED:20231217T162434Z
UID:24286-1706645700-1706647500@hermandaddesanbenito.net
SUMMARY:Misa de difuntos
DESCRIPTION:Celebraremos misa por difuntos recientes de la hermandad
URL:https://hermandaddesanbenito.net/event/culto-eucaristico-11/
END:VEVENT
BEGIN:VEVENT
DTSTART;TZID=UTC:20240206T201500
DTEND;TZID=UTC:20240206T204500
DTSTAMP:20260422T101425
CREATED:20231203T130928Z
LAST-MODIFIED:20231203T130928Z
UID:24288-1707250500-1707252300@hermandaddesanbenito.net
SUMMARY:Culto Eucarístico
DESCRIPTION:
URL:https://hermandaddesanbenito.net/event/culto-eucaristico-12/
END:VEVENT
BEGIN:VEVENT
DTSTART;TZID=UTC:20240212T200000
DTEND;TZID=UTC:20240212T223000
DTSTAMP:20260422T101425
CREATED:20240210T152730Z
LAST-MODIFIED:20240210T152730Z
UID:25940-1707768000-1707777000@hermandaddesanbenito.net
SUMMARY:Cabildo General de cuentas\, gestiones y proyectos
DESCRIPTION:
URL:https://hermandaddesanbenito.net/event/cabildo-general-de-cuentas-gestiones-y-proyectos/
END:VEVENT
BEGIN:VEVENT
DTSTART;TZID=UTC:20240213T201500
DTEND;TZID=UTC:20240213T211500
DTSTAMP:20260422T101425
CREATED:20230907T141828Z
LAST-MODIFIED:20240202T113658Z
UID:18574-1707855300-1707858900@hermandaddesanbenito.net
SUMMARY:Solemne Quinario al Santísimo Cristo de la Sangre
DESCRIPTION:Predica el  I. Sr. D. Manuel Palma Ramírez\, canónigo de la S.M. y P.I. Catedral de Sevilla y decano de la Facultad de Teología San Isidoro de Sevilla. \nDurante los días del Quinario y Función la imagen de Jesús presentado al pueblo permanecerá expuesta en devota veneración.
URL:https://hermandaddesanbenito.net/event/solemne-quinario-al-santisimo-cristo-de-la-sangre/
END:VEVENT
BEGIN:VEVENT
DTSTART;TZID=UTC:20240214T201500
DTEND;TZID=UTC:20240214T211500
DTSTAMP:20260422T101425
CREATED:20230907T141934Z
LAST-MODIFIED:20240202T114445Z
UID:18576-1707941700-1707945300@hermandaddesanbenito.net
SUMMARY:Solemne Quinario al Santísimo Cristo de la Sangre
DESCRIPTION:Predica el  I. Sr. D. Manuel Palma Ramírez\, canónigo de la S.M. y P.I. Catedral de Sevilla y decano de la Facultad de Teologia San Isidoro de Sevilla. \nDurante los días del Quinario y Función la imagen de Jesús presentado al pueblo permanecerá expuesta en devota veneración.
URL:https://hermandaddesanbenito.net/event/solemne-quinario-al-santisimo-cristo-de-la-sangre-2/
END:VEVENT
BEGIN:VEVENT
DTSTART;TZID=UTC:20240215T201500
DTEND;TZID=UTC:20240215T211500
DTSTAMP:20260422T101425
CREATED:20230907T142014Z
LAST-MODIFIED:20240202T114522Z
UID:18578-1708028100-1708031700@hermandaddesanbenito.net
SUMMARY:Solemne Quinario al Santísimo Cristo de la Sangre
DESCRIPTION:Predica el  I. Sr. D. Manuel Palma Ramírez\, canónigo de la S.M. y P.I. Catedral de Sevilla y decano de la Facultad de Teologia San Isidoro de Sevilla. \nDurante los días del Quinario y Función la imagen de Jesús presentado al pueblo permanecerá expuesta en devota veneración.
URL:https://hermandaddesanbenito.net/event/solemne-quinario-al-santisimo-cristo-de-la-sangre-3/
END:VEVENT
BEGIN:VEVENT
DTSTART;TZID=UTC:20240216T201500
DTEND;TZID=UTC:20240216T211500
DTSTAMP:20260422T101425
CREATED:20230907T142052Z
LAST-MODIFIED:20240202T114349Z
UID:18580-1708114500-1708118100@hermandaddesanbenito.net
SUMMARY:Solemne Quinario al Santísimo Cristo de la Sangre
DESCRIPTION:Predica el  I. Sr. D. Manuel Palma Ramírez\, canónigo de la S.M. y P.I. Catedral de Sevilla y decano de la Facultad de Teologia San Isidoro de Sevilla. \nDurante los días del Quinario y Función la imagen de Jesús presentado al pueblo permanecerá expuesta en devota veneración.
URL:https://hermandaddesanbenito.net/event/solemne-quinario-al-santisimo-cristo-de-la-sangre-4/
END:VEVENT
BEGIN:VEVENT
DTSTART;TZID=UTC:20240217T201500
DTEND;TZID=UTC:20240217T211500
DTSTAMP:20260422T101425
CREATED:20230907T142454Z
LAST-MODIFIED:20240202T114254Z
UID:18586-1708200900-1708204500@hermandaddesanbenito.net
SUMMARY:Solemne Quinario al Santísimo Cristo de la Sangre
DESCRIPTION:Predica el  I. Sr. D. Manuel Palma Ramírez\, canónigo de la S.M. y P.I. Catedral de Sevilla y decano de la Facultad de Teologia San Isidoro de Sevilla. \nDurante los días del Quinario y Función la imagen de Jesús presentado al pueblo permanecerá expuesta en devota veneración.
URL:https://hermandaddesanbenito.net/event/solemne-quinario-al-santisimo-cristo-de-la-sangre-5/
END:VEVENT
BEGIN:VEVENT
DTSTART;TZID=UTC:20240218T130000
DTEND;TZID=UTC:20240218T143000
DTSTAMP:20260422T101425
CREATED:20230907T142617Z
LAST-MODIFIED:20230907T142617Z
UID:18588-1708261200-1708266600@hermandaddesanbenito.net
SUMMARY:Solemne Función Principal de Instituto
DESCRIPTION:Preside el  y Rvdmo. Sr. D. Teodoro León Muñoz obispo auxiliar de Sevilla y Titular de Mentesa. \nDurante los días del Quinario y Función la imagen de Jesús presentado al pueblo permanecerá expuesta en devota veneración.
URL:https://hermandaddesanbenito.net/event/solemne-funcion-principal-de-instituto/
END:VEVENT
BEGIN:VEVENT
DTSTART;TZID=UTC:20240220T201500
DTEND;TZID=UTC:20240220T204500
DTSTAMP:20260422T101425
CREATED:20231203T131021Z
LAST-MODIFIED:20231203T131021Z
UID:24290-1708460100-1708461900@hermandaddesanbenito.net
SUMMARY:Culto Eucarístico
DESCRIPTION:
URL:https://hermandaddesanbenito.net/event/culto-eucaristico-13/
END:VEVENT
BEGIN:VEVENT
DTSTART;TZID=UTC:20240227T201500
DTEND;TZID=UTC:20240227T204500
DTSTAMP:20260422T101425
CREATED:20231203T131102Z
LAST-MODIFIED:20231203T131102Z
UID:24292-1709064900-1709066700@hermandaddesanbenito.net
SUMMARY:Culto Eucarístico
DESCRIPTION:
URL:https://hermandaddesanbenito.net/event/culto-eucaristico-14/
END:VEVENT
BEGIN:VEVENT
DTSTART;TZID=UTC:20240305T201500
DTEND;TZID=UTC:20240305T204500
DTSTAMP:20260422T101425
CREATED:20231203T131158Z
LAST-MODIFIED:20240427T184724Z
UID:24294-1709669700-1709671500@hermandaddesanbenito.net
SUMMARY:Culto Eucarístico
DESCRIPTION:Fachada principal
URL:https://hermandaddesanbenito.net/event/culto-eucaristico-15/
LOCATION:Parroquia de San Benito Abad\, Luis Montoto\, 41\, Sevilla\, 41018\, España
ATTACH;FMTTYPE=image/jpeg:https://hermandaddesanbenito.net/wp-content/uploads/2023/02/Iglesia-fachada.jpg
ORGANIZER;CN="Diputaci%C3%B3n de Cultos":MAILTO:secretaria@hermandaddesanbenito.net
END:VEVENT
BEGIN:VEVENT
DTSTART;TZID=UTC:20240312T201500
DTEND;TZID=UTC:20240312T204500
DTSTAMP:20260422T101426
CREATED:20231203T131256Z
LAST-MODIFIED:20231203T131256Z
UID:24296-1710274500-1710276300@hermandaddesanbenito.net
SUMMARY:Culto Eucarístico
DESCRIPTION:
URL:https://hermandaddesanbenito.net/event/culto-eucaristico-16/
END:VEVENT
BEGIN:VEVENT
DTSTART;TZID=UTC:20240318T210000
DTEND;TZID=UTC:20240318T220000
DTSTAMP:20260422T101426
CREATED:20230907T143729Z
LAST-MODIFIED:20230907T143729Z
UID:18590-1710795600-1710799200@hermandaddesanbenito.net
SUMMARY:Meditación ante la Virgen de la Encarnación en su paso
DESCRIPTION:
URL:https://hermandaddesanbenito.net/event/meditacion-ante-la-virgen-de-la-encarnacion-en-su-paso/
END:VEVENT
BEGIN:VEVENT
DTSTART;TZID=UTC:20240319T210000
DTEND;TZID=UTC:20240319T230000
DTSTAMP:20260422T101426
CREATED:20230907T143905Z
LAST-MODIFIED:20230907T143905Z
UID:18592-1710882000-1710889200@hermandaddesanbenito.net
SUMMARY:Via+Crucis presidido por el Santísimo Cristo de la Sangre y subida al paso
DESCRIPTION:
URL:https://hermandaddesanbenito.net/event/viacrucis-presidido-por-el-santisimo-cristo-de-la-sangre-y-subida-al-paso/
END:VEVENT
BEGIN:VEVENT
DTSTART;TZID=UTC:20240320T210000
DTEND;TZID=UTC:20240320T223000
DTSTAMP:20260422T101426
CREATED:20230907T144006Z
LAST-MODIFIED:20230907T144129Z
UID:18594-1710968400-1710973800@hermandaddesanbenito.net
SUMMARY:Meditación ante el Señor en su Sagrada Presentación y subida al paso.
DESCRIPTION:
URL:https://hermandaddesanbenito.net/event/meditacion-ante-el-senor-en-su-sagrada-presentacion-y-subida-al-paso/
END:VEVENT
BEGIN:VEVENT
DTSTART;TZID=UTC:20240326T090000
DTEND;TZID=UTC:20240326T100000
DTSTAMP:20260422T101426
CREATED:20230907T144329Z
LAST-MODIFIED:20230907T144329Z
UID:18596-1711443600-1711447200@hermandaddesanbenito.net
SUMMARY:Misa preparatoria a la estación de penitencia
DESCRIPTION:Por la tarde se realizará la Estación de Penitencia a la Santa Iglesia Catedral
URL:https://hermandaddesanbenito.net/event/misa-preparatoria-a-la-estacion-de-penitencia/
END:VEVENT
BEGIN:VEVENT
DTSTART;TZID=UTC:20240328T170000
DTEND;TZID=UTC:20240328T183000
DTSTAMP:20260422T101426
CREATED:20230907T144510Z
LAST-MODIFIED:20230907T144510Z
UID:18598-1711645200-1711650600@hermandaddesanbenito.net
SUMMARY:Jueves Santo. Santos Oficios en la Parroquia
DESCRIPTION:
URL:https://hermandaddesanbenito.net/event/jueves-santo-santos-oficios-en-la-parroquia/
END:VEVENT
BEGIN:VEVENT
DTSTART;TZID=UTC:20240402T201500
DTEND;TZID=UTC:20240402T210000
DTSTAMP:20260422T101426
CREATED:20230907T144630Z
LAST-MODIFIED:20230907T144630Z
UID:18600-1712088900-1712091600@hermandaddesanbenito.net
SUMMARY:Misa de acción de gracias por los frutos obtenido en la Estación de Penitencia y los cultos cuaresmales
DESCRIPTION:
URL:https://hermandaddesanbenito.net/event/misa-de-accion-de-gracias-por-los-frutos-obtenido-en-la-estacion-de-penitencia-y-los-cultos-cuaresmales/
END:VEVENT
BEGIN:VEVENT
DTSTART;TZID=UTC:20240408T201500
DTEND;TZID=UTC:20240408T210000
DTSTAMP:20260422T101426
CREATED:20230907T144828Z
LAST-MODIFIED:20230907T144828Z
UID:18602-1712607300-1712610000@hermandaddesanbenito.net
SUMMARY:Solemne Función de la Anunciación del Señor
DESCRIPTION:Celebración litúrgica de la Onomástica de Ntra. Sra. de la Encarnación
URL:https://hermandaddesanbenito.net/event/solemne-funcion-de-la-anunciacion-del-senor/
END:VEVENT
BEGIN:VEVENT
DTSTART;TZID=UTC:20240409T201500
DTEND;TZID=UTC:20240409T204500
DTSTAMP:20260422T101426
CREATED:20231203T131344Z
LAST-MODIFIED:20231203T131344Z
UID:24298-1712693700-1712695500@hermandaddesanbenito.net
SUMMARY:Culto Eucarístico
DESCRIPTION:
URL:https://hermandaddesanbenito.net/event/culto-eucaristico-17/
END:VEVENT
BEGIN:VEVENT
DTSTART;TZID=UTC:20240416T201500
DTEND;TZID=UTC:20240416T204500
DTSTAMP:20260422T101426
CREATED:20231203T131532Z
LAST-MODIFIED:20231203T131532Z
UID:24300-1713298500-1713300300@hermandaddesanbenito.net
SUMMARY:Culto Eucarístico
DESCRIPTION:
URL:https://hermandaddesanbenito.net/event/culto-eucaristico-18/
END:VEVENT
END:VCALENDAR