BEGIN:VCALENDAR
VERSION:2.0
PRODID:-//Hermandad de San Benito - ECPv6.15.20//NONSGML v1.0//EN
CALSCALE:GREGORIAN
METHOD:PUBLISH
X-ORIGINAL-URL:https://hermandaddesanbenito.net
X-WR-CALDESC:Eventos para Hermandad de San Benito
REFRESH-INTERVAL;VALUE=DURATION:PT1H
X-Robots-Tag:noindex
X-PUBLISHED-TTL:PT1H
BEGIN:VTIMEZONE
TZID:UTC
BEGIN:STANDARD
TZOFFSETFROM:+0000
TZOFFSETTO:+0000
TZNAME:UTC
DTSTART:20230101T000000
END:STANDARD
END:VTIMEZONE
BEGIN:VEVENT
DTSTART;TZID=UTC:20241105T201500
DTEND;TZID=UTC:20241105T204500
DTSTAMP:20260421T200306
CREATED:20240925T120413Z
LAST-MODIFIED:20240925T120430Z
UID:29476-1730837700-1730839500@hermandaddesanbenito.net
SUMMARY:Culto Eucarístico
DESCRIPTION:
URL:https://hermandaddesanbenito.net/event/culto-eucaristico-27/
LOCATION:Parroquia de San Benito Abad\, Luis Montoto\, 41\, Sevilla\, 41018\, España
END:VEVENT
BEGIN:VEVENT
DTSTART;TZID=UTC:20241112T201500
DTEND;TZID=UTC:20241112T204500
DTSTAMP:20260421T200306
CREATED:20240925T120510Z
LAST-MODIFIED:20240925T120510Z
UID:29478-1731442500-1731444300@hermandaddesanbenito.net
SUMMARY:Culto Eucarístico
DESCRIPTION:
URL:https://hermandaddesanbenito.net/event/culto-eucaristico-28/
LOCATION:Parroquia de San Benito Abad\, Luis Montoto\, 41\, Sevilla\, 41018\, España
END:VEVENT
BEGIN:VEVENT
DTSTART;TZID=UTC:20241119T201500
DTEND;TZID=UTC:20241119T204500
DTSTAMP:20260421T200306
CREATED:20240925T120551Z
LAST-MODIFIED:20240925T120551Z
UID:29480-1732047300-1732049100@hermandaddesanbenito.net
SUMMARY:Culto Eucarístico
DESCRIPTION:
URL:https://hermandaddesanbenito.net/event/culto-eucaristico-29/
LOCATION:Parroquia de San Benito Abad\, Luis Montoto\, 41\, Sevilla\, 41018\, España
END:VEVENT
BEGIN:VEVENT
DTSTART;TZID=UTC:20241126T201500
DTEND;TZID=UTC:20241126T204500
DTSTAMP:20260421T200306
CREATED:20240925T120154Z
LAST-MODIFIED:20240925T120154Z
UID:29474-1732652100-1732653900@hermandaddesanbenito.net
SUMMARY:Misas por los hermanos difuntos
DESCRIPTION:Misa por el alma de los hermanos fallecidos de la Hermandad
URL:https://hermandaddesanbenito.net/event/misas-por-los-hermanos-difuntos/
LOCATION:Parroquia de San Benito Abad\, Luis Montoto\, 41\, Sevilla\, 41018\, España
ORGANIZER;CN="Diputaci%C3%B3n de Cultos":MAILTO:secretaria@hermandaddesanbenito.net
END:VEVENT
END:VCALENDAR