BEGIN:VCALENDAR
VERSION:2.0
PRODID:-//Hermandad de San Benito - ECPv6.15.20//NONSGML v1.0//EN
CALSCALE:GREGORIAN
METHOD:PUBLISH
X-WR-CALNAME:Hermandad de San Benito
X-ORIGINAL-URL:https://hermandaddesanbenito.net
X-WR-CALDESC:Eventos para Hermandad de San Benito
REFRESH-INTERVAL;VALUE=DURATION:PT1H
X-Robots-Tag:noindex
X-PUBLISHED-TTL:PT1H
BEGIN:VTIMEZONE
TZID:UTC
BEGIN:STANDARD
TZOFFSETFROM:+0000
TZOFFSETTO:+0000
TZNAME:UTC
DTSTART:20230101T000000
END:STANDARD
END:VTIMEZONE
BEGIN:VEVENT
DTSTART;TZID=UTC:20241203T201500
DTEND;TZID=UTC:20241203T204500
DTSTAMP:20260421T185240
CREATED:20240925T124505Z
LAST-MODIFIED:20240925T124505Z
UID:29500-1733256900-1733258700@hermandaddesanbenito.net
SUMMARY:Culto Eucarístico
DESCRIPTION:
URL:https://hermandaddesanbenito.net/event/culto-eucaristico-30/
LOCATION:Parroquia de San Benito Abad\, Luis Montoto\, 41\, Sevilla\, 41018\, España
END:VEVENT
BEGIN:VEVENT
DTSTART;TZID=UTC:20241208T130000
DTEND;TZID=UTC:20241208T133000
DTSTAMP:20260421T185240
CREATED:20240925T121507Z
LAST-MODIFIED:20240925T121535Z
UID:29484-1733662800-1733664600@hermandaddesanbenito.net
SUMMARY:Presentación de los niños
DESCRIPTION:A las 13:00 tendrá lugar presentación de los niños nacidos durante el presente año.
URL:https://hermandaddesanbenito.net/event/preswentacion-de-los-ninos/
LOCATION:Parroquia de San Benito Abad\, Luis Montoto\, 41\, Sevilla\, 41018\, España
END:VEVENT
BEGIN:VEVENT
DTSTART;TZID=UTC:20241210T201500
DTEND;TZID=UTC:20241210T211500
DTSTAMP:20260421T185240
CREATED:20240925T122337Z
LAST-MODIFIED:20240925T122337Z
UID:29490-1733861700-1733865300@hermandaddesanbenito.net
SUMMARY:Solemne Función del XXX aniversario de la Coronación Canónica de la Santísima Virgen
DESCRIPTION:Durante este día la imagen permanecerá expuesta para su veneración
URL:https://hermandaddesanbenito.net/event/solemne-funcion-del-xxx-aniversario-de-la-coronacion-canonica-de-la-santisima-virgen/
LOCATION:Parroquia de San Benito Abad\, Luis Montoto\, 41\, Sevilla\, 41018\, España
END:VEVENT
BEGIN:VEVENT
DTSTART;TZID=UTC:20241214T170000
DTEND;TZID=UTC:20241214T180000
DTSTAMP:20260421T185240
CREATED:20240925T122815Z
LAST-MODIFIED:20241201T175355Z
UID:29492-1734195600-1734199200@hermandaddesanbenito.net
SUMMARY:Traslado de Nuestra Sra. de la Encarnación a la Residencia de las Hermanitas de los pobres
DESCRIPTION:
URL:https://hermandaddesanbenito.net/event/traslado-de-nuestra-sra-de-la-encarnacion-a-la-residencia-de-las-hermanitas-de-los-pobres-2/
END:VEVENT
BEGIN:VEVENT
DTSTART;TZID=UTC:20241215T120000
DTEND;TZID=UTC:20241215T130000
DTSTAMP:20260421T185240
CREATED:20240925T123925Z
LAST-MODIFIED:20241126T065228Z
UID:29497-1734264000-1734267600@hermandaddesanbenito.net
SUMMARY:Misa III domingo adviento en la Residencia de las Hermanitas de los pobres
DESCRIPTION:A las 11:30 rezo del Santo Rosario y a las 12:00 h. del mediodía celebraremos la Santa Misa y regreso a la parroquia después de vísperas y/o rosario.
URL:https://hermandaddesanbenito.net/event/misa-iii-domingo-adviento-en-la-residencia-de-las-hermanitas-de-los-pobres/
LOCATION:Capilla de las Hermanitas\, Luis Montoto\, 43\, Sevilla\, 41018\, España
END:VEVENT
BEGIN:VEVENT
DTSTART;TZID=UTC:20241217T201500
DTEND;TZID=UTC:20241217T204500
DTSTAMP:20260421T185240
CREATED:20240925T124549Z
LAST-MODIFIED:20240925T124549Z
UID:29502-1734466500-1734468300@hermandaddesanbenito.net
SUMMARY:Culto Eucarístico
DESCRIPTION:
URL:https://hermandaddesanbenito.net/event/culto-eucaristico-31/
LOCATION:Parroquia de San Benito Abad\, Luis Montoto\, 41\, Sevilla\, 41018\, España
END:VEVENT
END:VCALENDAR